BEGIN:VCALENDAR
PRODID:NaylorAMS
VERSION:2.0
BEGIN:VEVENT
DTSTAMP:20260423T041900
UID:267
URL:https://www.americanjail.org/ev_calendar_day.asp?eventid=267
DTSTART;TZID=Eastern:20250224T080000
DTEND;TZID=Eastern:20250225T170000
SUMMARY:Back to Basics Direct Supervision
DESCRIPTION:Back to Basics Direct Supervision\nFor details, link here: https://www.americanjail.org/ev_calendar_day.asp?eventid=267
LOCATION:2911 Taylor Blvd Louisville, KY US 40208
END:VEVENT
BEGIN:VTIMEZONE
TZID:Eastern
BEGIN:STANDARD
DTSTART:20071104T020000
RRULE:FREQ=YEARLY;BYMONTH=11;BYDAY=1SU
TZOFFSETFROM:-0400
TZOFFSETTO:-0500
TZNAME:EST
END:STANDARD
BEGIN:DAYLIGHT
DTSTART:20070311T020000
RRULE:FREQ=YEARLY;BYMONTH=3;BYDAY=2SU
TZOFFSETFROM:-0500
TZOFFSETTO:-0400
TZNAME:EDT
END:DAYLIGHT
END:VTIMEZONE
END:VCALENDAR
